BEGIN:VCALENDAR
VERSION:2.0
PRODID:-//InvisionCommunity Events 4.7.23//EN
METHOD:PUBLISH
CALSCALE:GREGORIAN
REFRESH-INTERVAL:PT15M
X-PUBLISHED-TTL:PT15M
X-WR-CALNAME:At My TV
NAME:At My TV
BEGIN:VTIMEZONE
TZID:Europe/London
TZURL:http://tzurl.org/zoneinfo/Europe/London
X-LIC-LOCATION:Europe/London
BEGIN:DAYLIGHT
TZOFFSETFROM:+0000
TZOFFSETTO:+0100
TZNAME:BST
DTSTART:20190331T020000Z
RRULE:FREQ=YEARLY;BYMONTH=3;BYDAY=-1SU
END:DAYLIGHT
BEGIN:STANDARD
TZOFFSETFROM:+0100
TZOFFSETTO:+0000
TZNAME:GMT
DTSTART:20191027T020000Z
RRULE:FREQ=YEARLY;BYMONTH=10;BYDAY=-1SU
END:STANDARD
END:VTIMEZONE
BEGIN:VEVENT
SUMMARY:Fresh Off the Boat 5x17 - These Boots are Made for Walkin'
DTSTAMP:20190223T050046Z
SEQUENCE:0
UID:100218-2-841ebed20eb198c4569419e99b7bf40a@themidnightzone.com
ORGANIZER;CN="Midnight":midnight@themidnightzone.com
DESCRIPTION:Eddie\, angry after his mom tells him he's too immature to g
	oon a student exchange trip to Taiwan\, takes Jessica at herword when she 
	says \"my house\, my rules\" and leaves home. Butwhen he ends up living wi
	th Horace in his new apartment\, hehas second thoughts. Louis and Evan sus
	pect Emery is leadingsome sort of secret life after he quits the volleybal
	l team butlies about still going to practice\, so they begin followinghim.
DTSTART:20190309T010000Z
DTEND:20190309T013000Z
END:VEVENT
END:VCALENDAR
