BEGIN:VCALENDAR
VERSION:2.0
PRODID:-//InvisionCommunity Events 4.7.23//EN
METHOD:PUBLISH
CALSCALE:GREGORIAN
REFRESH-INTERVAL:PT15M
X-PUBLISHED-TTL:PT15M
X-WR-CALNAME:Pogdesign
NAME:Pogdesign
BEGIN:VTIMEZONE
TZID:Europe/London
TZURL:http://tzurl.org/zoneinfo/Europe/London
X-LIC-LOCATION:Europe/London
BEGIN:DAYLIGHT
TZOFFSETFROM:+0000
TZOFFSETTO:+0100
TZNAME:BST
DTSTART:20190331T020000Z
RRULE:FREQ=YEARLY;BYMONTH=3;BYDAY=-1SU
END:DAYLIGHT
BEGIN:STANDARD
TZOFFSETFROM:+0100
TZOFFSETTO:+0000
TZNAME:GMT
DTSTART:20191027T020000Z
RRULE:FREQ=YEARLY;BYMONTH=10;BYDAY=-1SU
END:STANDARD
END:VTIMEZONE
BEGIN:VEVENT
SUMMARY:Supergirl 4x18 - Crime and Punishment
DTSTAMP:20190408T085437Z
SEQUENCE:0
UID:102627-3-841ebed20eb198c4569419e99b7bf40a@themidnightzone.com
ORGANIZER;CN="Midnight":midnight@themidnightzone.com
DESCRIPTION:Kara and Lena head to Stryker's Island to search for clues o
	nhow to defeat Lex. At the prison\, Kara tries to befriend anosy prisoner\
	, Steve\, who may have insight into what Lex wasdoing\, while Lena studies
	 an array of puzzles Lex left behindin the hopes of discovering his wherea
	bouts. While there\, aprison riot breaks out and Kara must find a way to s
	top theprisoners without revealing her secret identity as Supergirl.Meanwh
	ile\, Kelly encourages James to talk to someone for hisPTSD.
DTSTART:20190421T200000Z
DTEND:20190421T210000Z
END:VEVENT
END:VCALENDAR
