BEGIN:VCALENDAR
VERSION:2.0
PRODID:-//InvisionCommunity Events 4.7.23//EN
METHOD:PUBLISH
CALSCALE:GREGORIAN
REFRESH-INTERVAL:PT15M
X-PUBLISHED-TTL:PT15M
X-WR-CALNAME:At My TV
NAME:At My TV
BEGIN:VTIMEZONE
TZID:Europe/London
TZURL:http://tzurl.org/zoneinfo/Europe/London
X-LIC-LOCATION:Europe/London
BEGIN:DAYLIGHT
TZOFFSETFROM:+0000
TZOFFSETTO:+0100
TZNAME:BST
DTSTART:20190331T020000Z
RRULE:FREQ=YEARLY;BYMONTH=3;BYDAY=-1SU
END:DAYLIGHT
BEGIN:STANDARD
TZOFFSETFROM:+0100
TZOFFSETTO:+0000
TZNAME:GMT
DTSTART:20191027T020000Z
RRULE:FREQ=YEARLY;BYMONTH=10;BYDAY=-1SU
END:STANDARD
END:VTIMEZONE
BEGIN:VEVENT
SUMMARY:City on a Hill 1x6 - It's Hard to Be a Saint in the City
DTSTAMP:20190708T095048Z
SEQUENCE:0
UID:106697-2-841ebed20eb198c4569419e99b7bf40a@themidnightzone.com
ORGANIZER;CN="Midnight":midnight@themidnightzone.com
DESCRIPTION:DeCourcy is a step closer to connecting the stolen guns to t
	heRevere robbery when an insider agrees to talk. Jenny is nolonger able to
	 ignore Jackie's indiscretions after they show upon her doorstep. An unexp
	ected rush to the hospital worsensmoney problems for the Ryan family and R
	everend Fieldsdiscovers that his longstanding influence doesn't make himin
	vincible.
DTSTART:20190722T010000Z
DTEND:20190722T020000Z
END:VEVENT
END:VCALENDAR
