BEGIN:VCALENDAR
VERSION:2.0
PRODID:-//InvisionCommunity Events 4.7.23//EN
METHOD:PUBLISH
CALSCALE:GREGORIAN
REFRESH-INTERVAL:PT15M
X-PUBLISHED-TTL:PT15M
X-WR-CALNAME:At My TV
NAME:At My TV
BEGIN:VTIMEZONE
TZID:Europe/London
TZURL:http://tzurl.org/zoneinfo/Europe/London
X-LIC-LOCATION:Europe/London
BEGIN:DAYLIGHT
TZOFFSETFROM:+0000
TZOFFSETTO:+0100
TZNAME:BST
DTSTART:20190331T020000Z
RRULE:FREQ=YEARLY;BYMONTH=3;BYDAY=-1SU
END:DAYLIGHT
BEGIN:STANDARD
TZOFFSETFROM:+0100
TZOFFSETTO:+0000
TZNAME:GMT
DTSTART:20191027T020000Z
RRULE:FREQ=YEARLY;BYMONTH=10;BYDAY=-1SU
END:STANDARD
END:VTIMEZONE
BEGIN:VEVENT
SUMMARY:Greys Anatomy 16x2 - Back in the Saddle
DTSTAMP:20190922T181830Z
SEQUENCE:0
UID:109468-2-841ebed20eb198c4569419e99b7bf40a@themidnightzone.com
ORGANIZER;CN="Midnight":midnight@themidnightzone.com
DESCRIPTION:The Grey Sloan doctors operate on a man who crashed intoMagg
	ie's car as Owen\, back from paternity leave\, struggleswith Tom's new pos
	ition. Outside the hospital\, Meredith'srecent firing doesn't stop her fro
	m diagnosing those aroundher. Plus\, Richard and Alex start anew and it's 
	not easy. Allthe while\, Jo readies herself to return to work\, and Amelia
	has a new revelation in her relationship with Link.
DTSTART:20191004T000000Z
DTEND:20191004T010000Z
END:VEVENT
END:VCALENDAR
