BEGIN:VCALENDAR
VERSION:2.0
PRODID:-//InvisionCommunity Events 4.7.23//EN
METHOD:PUBLISH
CALSCALE:GREGORIAN
REFRESH-INTERVAL:PT15M
X-PUBLISHED-TTL:PT15M
X-WR-CALNAME:At My TV
NAME:At My TV
BEGIN:VTIMEZONE
TZID:Europe/London
TZURL:http://tzurl.org/zoneinfo/Europe/London
X-LIC-LOCATION:Europe/London
BEGIN:DAYLIGHT
TZOFFSETFROM:+0000
TZOFFSETTO:+0100
TZNAME:BST
DTSTART:20190331T020000Z
RRULE:FREQ=YEARLY;BYMONTH=3;BYDAY=-1SU
END:DAYLIGHT
BEGIN:STANDARD
TZOFFSETFROM:+0100
TZOFFSETTO:+0000
TZNAME:GMT
DTSTART:20191027T020000Z
RRULE:FREQ=YEARLY;BYMONTH=10;BYDAY=-1SU
END:STANDARD
END:VTIMEZONE
BEGIN:VEVENT
SUMMARY:The Resident 3x2 - Flesh of My Flesh
DTSTAMP:20190922T181830Z
SEQUENCE:0
UID:109519-2-841ebed20eb198c4569419e99b7bf40a@themidnightzone.com
ORGANIZER;CN="Midnight":midnight@themidnightzone.com
DESCRIPTION:Cain tries to recruit Bell and Kit to join him on a dangerou
	ssurgery\, with the intent of garnering publicity for thehospital. Meanwhi
	le\, the Raptor finds himself with anemotional attachment to a patient who
	se life is put in hishands and Mina's friend\, Adaku (guest star Erinn Wes
	tbrook)\,arrives at the hospital with shocking news. Also\, Devonrotates o
	ut of the ER and Nic plans a surprise for Conrad.
DTSTART:20191002T000000Z
DTEND:20191002T010000Z
END:VEVENT
END:VCALENDAR
