BEGIN:VCALENDAR
VERSION:2.0
PRODID:-//InvisionCommunity Events 4.7.23//EN
METHOD:PUBLISH
CALSCALE:GREGORIAN
REFRESH-INTERVAL:PT15M
X-PUBLISHED-TTL:PT15M
X-WR-CALNAME:At My TV
NAME:At My TV
BEGIN:VTIMEZONE
TZID:Europe/London
TZURL:http://tzurl.org/zoneinfo/Europe/London
X-LIC-LOCATION:Europe/London
BEGIN:DAYLIGHT
TZOFFSETFROM:+0000
TZOFFSETTO:+0100
TZNAME:BST
DTSTART:20190331T020000Z
RRULE:FREQ=YEARLY;BYMONTH=3;BYDAY=-1SU
END:DAYLIGHT
BEGIN:STANDARD
TZOFFSETFROM:+0100
TZOFFSETTO:+0000
TZNAME:GMT
DTSTART:20191027T020000Z
RRULE:FREQ=YEARLY;BYMONTH=10;BYDAY=-1SU
END:STANDARD
END:VTIMEZONE
BEGIN:VEVENT
SUMMARY:Ballers (2014) 5x7 - Who Wants a Lollipop
DTSTAMP:20190923T062416Z
SEQUENCE:0
UID:109836-2-841ebed20eb198c4569419e99b7bf40a@themidnightzone.com
ORGANIZER;CN="Midnight":midnight@themidnightzone.com
DESCRIPTION:When Spencer returns to the Sports X offices to work out ama
	jor player deal\, he and Joe air past grievances and later\,Spencer makes 
	a big public statement that's sure to haveconsequences. Charles mulls over
	 a new deal from Werner aftergetting a wakeup call about his health. Ricky
	 gets defensive ina meeting with a Hollywood bigwig who has ambitious plan
	s forhis future. Vernon\, Reggie and Lance arrive at their firstEsports to
	urnament as underdogs.
DTSTART:20191007T023500Z
DTEND:20191007T030500Z
END:VEVENT
END:VCALENDAR
