BEGIN:VCALENDAR
VERSION:2.0
PRODID:-//InvisionCommunity Events 4.7.23//EN
METHOD:PUBLISH
CALSCALE:GREGORIAN
REFRESH-INTERVAL:PT15M
X-PUBLISHED-TTL:PT15M
X-WR-CALNAME:At My TV
NAME:At My TV
BEGIN:VTIMEZONE
TZID:Europe/London
TZURL:http://tzurl.org/zoneinfo/Europe/London
X-LIC-LOCATION:Europe/London
BEGIN:DAYLIGHT
TZOFFSETFROM:+0000
TZOFFSETTO:+0100
TZNAME:BST
DTSTART:20190331T020000Z
RRULE:FREQ=YEARLY;BYMONTH=3;BYDAY=-1SU
END:DAYLIGHT
BEGIN:STANDARD
TZOFFSETFROM:+0100
TZOFFSETTO:+0000
TZNAME:GMT
DTSTART:20191027T020000Z
RRULE:FREQ=YEARLY;BYMONTH=10;BYDAY=-1SU
END:STANDARD
END:VTIMEZONE
BEGIN:VEVENT
SUMMARY:The Resident 3x3 - Saints & Sinners
DTSTAMP:20190930T010007Z
SEQUENCE:0
UID:110058-2-841ebed20eb198c4569419e99b7bf40a@themidnightzone.com
ORGANIZER;CN="Midnight":midnight@themidnightzone.com
DESCRIPTION:When a police officer shows up to the ER with an injuredcrim
	inal that he caught in the act\, it's up to the Chastainstaff to keep him 
	alive in order to save an innocent life. Nicgets roped into a surgical rot
	ation with Cain that leaves herquestioning the way he operates\, and Conra
	d makes a shockingdiscovery about the hospital. Meanwhile\, Bell pursues a
	 newfiscal venture that may bring him into a whole new market.
DTSTART:20191009T000000Z
DTEND:20191009T010000Z
END:VEVENT
END:VCALENDAR
