BEGIN:VCALENDAR
VERSION:2.0
PRODID:-//InvisionCommunity Events 4.7.23//EN
METHOD:PUBLISH
CALSCALE:GREGORIAN
REFRESH-INTERVAL:PT15M
X-PUBLISHED-TTL:PT15M
X-WR-CALNAME:At My TV
NAME:At My TV
BEGIN:VTIMEZONE
TZID:Europe/London
TZURL:http://tzurl.org/zoneinfo/Europe/London
X-LIC-LOCATION:Europe/London
BEGIN:DAYLIGHT
TZOFFSETFROM:+0000
TZOFFSETTO:+0100
TZNAME:BST
DTSTART:20190331T020000Z
RRULE:FREQ=YEARLY;BYMONTH=3;BYDAY=-1SU
END:DAYLIGHT
BEGIN:STANDARD
TZOFFSETFROM:+0100
TZOFFSETTO:+0000
TZNAME:GMT
DTSTART:20191027T020000Z
RRULE:FREQ=YEARLY;BYMONTH=10;BYDAY=-1SU
END:STANDARD
END:VTIMEZONE
BEGIN:VEVENT
SUMMARY:Dog: Impossible 1x5 - House Unrest
DTSTAMP:20190930T010007Z
SEQUENCE:0
UID:110105-2-841ebed20eb198c4569419e99b7bf40a@themidnightzone.com
ORGANIZER;CN="Midnight":midnight@themidnightzone.com
DESCRIPTION:Matt Beisner takes on three dogs that are in real danger ofl
	osing their homes or their lives. Moneypenny\, a snuggly pughas some sever
	e bullying issues. A beautiful AustralianShepherd named Whiskey strikes fe
	ar in his owners' home. Paxbrings no peace to his owners\, who have had to
	 cut themselvesoff from the outside world. Can Beisner transform these dog
	sand help them live happy lives?
DTSTART:20190930T020000Z
DTEND:20190930T030000Z
END:VEVENT
END:VCALENDAR
