BEGIN:VCALENDAR
VERSION:2.0
PRODID:-//InvisionCommunity Events 4.7.23//EN
METHOD:PUBLISH
CALSCALE:GREGORIAN
REFRESH-INTERVAL:PT15M
X-PUBLISHED-TTL:PT15M
X-WR-CALNAME:Pogdesign
NAME:Pogdesign
BEGIN:VTIMEZONE
TZID:Europe/London
TZURL:http://tzurl.org/zoneinfo/Europe/London
X-LIC-LOCATION:Europe/London
BEGIN:DAYLIGHT
TZOFFSETFROM:+0000
TZOFFSETTO:+0100
TZNAME:BST
DTSTART:20190331T020000Z
RRULE:FREQ=YEARLY;BYMONTH=3;BYDAY=-1SU
END:DAYLIGHT
BEGIN:STANDARD
TZOFFSETFROM:+0100
TZOFFSETTO:+0000
TZNAME:GMT
DTSTART:20191027T020000Z
RRULE:FREQ=YEARLY;BYMONTH=10;BYDAY=-1SU
END:STANDARD
END:VTIMEZONE
BEGIN:VEVENT
SUMMARY:Magnum P.I. 2x3 - Knight Lasts Forever
DTSTAMP:20190930T050106Z
SEQUENCE:0
UID:110155-3-841ebed20eb198c4569419e99b7bf40a@themidnightzone.com
ORGANIZER;CN="Midnight":midnight@themidnightzone.com
DESCRIPTION:Kumu and Higgins are in danger when Robin's Nest is under si
	egeby mercenaries storming the estate in order to find out thetrue identit
	y of the White Knight\, Robin's muse and literaryhero. Rick and T.C. help 
	one of Rick's employees when his caris stolen\, and Higgins finally gives 
	Magnum an answer about ifshe'll become his partner.
DTSTART:20191011T210000Z
DTEND:20191011T220000Z
END:VEVENT
END:VCALENDAR
