BEGIN:VCALENDAR
VERSION:2.0
PRODID:-//InvisionCommunity Events 4.7.23//EN
METHOD:PUBLISH
CALSCALE:GREGORIAN
REFRESH-INTERVAL:PT15M
X-PUBLISHED-TTL:PT15M
X-WR-CALNAME:Pogdesign
NAME:Pogdesign
BEGIN:VTIMEZONE
TZID:Europe/London
TZURL:http://tzurl.org/zoneinfo/Europe/London
X-LIC-LOCATION:Europe/London
BEGIN:DAYLIGHT
TZOFFSETFROM:+0000
TZOFFSETTO:+0100
TZNAME:BST
DTSTART:20190331T020000Z
RRULE:FREQ=YEARLY;BYMONTH=3;BYDAY=-1SU
END:DAYLIGHT
BEGIN:STANDARD
TZOFFSETFROM:+0100
TZOFFSETTO:+0000
TZNAME:GMT
DTSTART:20191027T020000Z
RRULE:FREQ=YEARLY;BYMONTH=10;BYDAY=-1SU
END:STANDARD
END:VTIMEZONE
BEGIN:VEVENT
SUMMARY:The Graham Norton Show 26x4 - Arnold Schwarzenegger\, LindaH
	amilton\, Debbie Harry\, Nadiya Hussain\, DJ Spoony\, TheSugababes
DTSTAMP:20191004T220105Z
SEQUENCE:0
UID:110552-3-841ebed20eb198c4569419e99b7bf40a@themidnightzone.com
ORGANIZER;CN="Midnight":midnight@themidnightzone.com
DESCRIPTION:Together on Graham's sofa this week: Arnold Schwarzenegger a
	ndLinda Hamilton discuss reuniting for Terminator: Dark Fate\,and Debbie H
	arry and Nadiya Hussain talk about their newautobiographies. With music fr
	om DJ Spoony's Garage Classicalfeaturing The Sugababes.
DTSTART:20191018T183500Z
DTEND:20191018T193500Z
END:VEVENT
END:VCALENDAR
