BEGIN:VCALENDAR
VERSION:2.0
PRODID:-//InvisionCommunity Events 4.7.23//EN
METHOD:PUBLISH
CALSCALE:GREGORIAN
REFRESH-INTERVAL:PT15M
X-PUBLISHED-TTL:PT15M
X-WR-CALNAME:At My TV
NAME:At My TV
BEGIN:VTIMEZONE
TZID:Europe/London
TZURL:http://tzurl.org/zoneinfo/Europe/London
X-LIC-LOCATION:Europe/London
BEGIN:DAYLIGHT
TZOFFSETFROM:+0000
TZOFFSETTO:+0100
TZNAME:BST
DTSTART:20190331T020000Z
RRULE:FREQ=YEARLY;BYMONTH=3;BYDAY=-1SU
END:DAYLIGHT
BEGIN:STANDARD
TZOFFSETFROM:+0100
TZOFFSETTO:+0000
TZNAME:GMT
DTSTART:20191027T020000Z
RRULE:FREQ=YEARLY;BYMONTH=10;BYDAY=-1SU
END:STANDARD
END:VTIMEZONE
BEGIN:VEVENT
SUMMARY:American Housewife 4x4 - Lasagna
DTSTAMP:20191005T100005Z
SEQUENCE:0
UID:110605-2-841ebed20eb198c4569419e99b7bf40a@themidnightzone.com
ORGANIZER;CN="Midnight":midnight@themidnightzone.com
DESCRIPTION:Greg hosts a meeting for the Westport Historical Guild towel
	come back Stan\, and Katie's homemade lasagna is a huge hitwith the guys. 
	After Stan makes several trips back for secondsand begins spending an inor
	dinate amount of time at the Ottohouse\, Chloe Brown Mueller becomes convi
	nced that Katie andStan must be having an extra-marital affair. Meanwhile\
	, Angelaand Doris step in to help Oliver with his Teen Help LineInterview.
DTSTART:20191019T000000Z
DTEND:20191019T003000Z
END:VEVENT
END:VCALENDAR
