BEGIN:VCALENDAR
VERSION:2.0
PRODID:-//InvisionCommunity Events 4.7.23//EN
METHOD:PUBLISH
CALSCALE:GREGORIAN
REFRESH-INTERVAL:PT15M
X-PUBLISHED-TTL:PT15M
X-WR-CALNAME:At My TV
NAME:At My TV
BEGIN:VTIMEZONE
TZID:Europe/London
TZURL:http://tzurl.org/zoneinfo/Europe/London
X-LIC-LOCATION:Europe/London
BEGIN:DAYLIGHT
TZOFFSETFROM:+0000
TZOFFSETTO:+0100
TZNAME:BST
DTSTART:20190331T020000Z
RRULE:FREQ=YEARLY;BYMONTH=3;BYDAY=-1SU
END:DAYLIGHT
BEGIN:STANDARD
TZOFFSETFROM:+0100
TZOFFSETTO:+0000
TZNAME:GMT
DTSTART:20191027T020000Z
RRULE:FREQ=YEARLY;BYMONTH=10;BYDAY=-1SU
END:STANDARD
END:VTIMEZONE
BEGIN:VEVENT
SUMMARY:Dublin Murders 1x4 - Episode 4
DTSTAMP:20191008T065957Z
SEQUENCE:0
UID:110748-2-841ebed20eb198c4569419e99b7bf40a@themidnightzone.com
ORGANIZER;CN="Midnight":midnight@themidnightzone.com
DESCRIPTION:Frank comes up with a plan for Cassie to go undercover as he
	rdouble to discover who killed her\, but she refuses to beinvolved. Howeve
	r\, a savage rejection from Rob that leaves herfeeling betrayed leads her 
	to have a change of heart. As theinvestigation into Katy drags to a halt\,
	 Rob becomes fixatedon tracking down two of Jonathan's old friends\, convi
	nced theyare the key to solving both mysteries.
DTSTART:20191022T200000Z
DTEND:20191022T210000Z
END:VEVENT
END:VCALENDAR
