BEGIN:VCALENDAR
VERSION:2.0
PRODID:-//InvisionCommunity Events 4.7.23//EN
METHOD:PUBLISH
CALSCALE:GREGORIAN
REFRESH-INTERVAL:PT15M
X-PUBLISHED-TTL:PT15M
X-WR-CALNAME:Pogdesign
NAME:Pogdesign
BEGIN:VTIMEZONE
TZID:Europe/London
TZURL:http://tzurl.org/zoneinfo/Europe/London
X-LIC-LOCATION:Europe/London
BEGIN:DAYLIGHT
TZOFFSETFROM:+0000
TZOFFSETTO:+0100
TZNAME:BST
DTSTART:20190331T020000Z
RRULE:FREQ=YEARLY;BYMONTH=3;BYDAY=-1SU
END:DAYLIGHT
BEGIN:STANDARD
TZOFFSETFROM:+0100
TZOFFSETTO:+0000
TZNAME:GMT
DTSTART:20191027T020000Z
RRULE:FREQ=YEARLY;BYMONTH=10;BYDAY=-1SU
END:STANDARD
END:VTIMEZONE
BEGIN:VEVENT
SUMMARY:All American 2x3 - Never No More
DTSTAMP:20191008T110104Z
SEQUENCE:0
UID:110790-3-841ebed20eb198c4569419e99b7bf40a@themidnightzone.com
ORGANIZER;CN="Midnight":midnight@themidnightzone.com
DESCRIPTION:Spencer gives his Dad an ultimatum about his new player\, bu
	tafter talking to Jordan\, Spencer has a better understanding ofwhat is re
	ally bothering him. After Coop shows off her rappingskills at school\, she
	 becomes more confident in her abilityand decides to enter a freestyle bat
	tle. Olivia reluctantlyjoins the So Cal Muse group with Laura's encouragem
	ent\, butOlivia learns that this might help create her own identity.Meanwh
	ile\, Layla is still not acting like herself and Spencergrows concerned af
	ter what he sees.
DTSTART:20191021T200000Z
DTEND:20191021T210000Z
END:VEVENT
END:VCALENDAR
