BEGIN:VCALENDAR
VERSION:2.0
PRODID:-//InvisionCommunity Events 4.7.23//EN
METHOD:PUBLISH
CALSCALE:GREGORIAN
REFRESH-INTERVAL:PT15M
X-PUBLISHED-TTL:PT15M
X-WR-CALNAME:Pogdesign
NAME:Pogdesign
BEGIN:VTIMEZONE
TZID:Europe/London
TZURL:http://tzurl.org/zoneinfo/Europe/London
X-LIC-LOCATION:Europe/London
BEGIN:DAYLIGHT
TZOFFSETFROM:+0000
TZOFFSETTO:+0100
TZNAME:BST
DTSTART:20190331T020000Z
RRULE:FREQ=YEARLY;BYMONTH=3;BYDAY=-1SU
END:DAYLIGHT
BEGIN:STANDARD
TZOFFSETFROM:+0100
TZOFFSETTO:+0000
TZNAME:GMT
DTSTART:20191027T020000Z
RRULE:FREQ=YEARLY;BYMONTH=10;BYDAY=-1SU
END:STANDARD
END:VTIMEZONE
BEGIN:VEVENT
SUMMARY:Strictly Come Dancing 17x11 - Week 6 Halloween
DTSTAMP:20191014T110105Z
SEQUENCE:0
UID:111179-3-841ebed20eb198c4569419e99b7bf40a@themidnightzone.com
ORGANIZER;CN="Midnight":midnight@themidnightzone.com
DESCRIPTION:Tess Daly and Claudia Winkleman present the sixth live episo
	deof this year's series. The 11 remaining celebrity couples taketo the dan
	cefloor\, hoping to impress the judges and theviewers at home with their H
	alloween-inspired routines. MotsiMabuse\, Craig Revel Horwood\, Shirley Ba
	llas and Bruno Tonioliwill score the performances out of 10 before the vot
	ing linesopen - giving viewers at home the chance to have their say anddet
	ermine who will be leaving the competition.
DTSTART:20191026T151500Z
DTEND:20191026T164500Z
END:VEVENT
END:VCALENDAR
