BEGIN:VCALENDAR
VERSION:2.0
PRODID:-//InvisionCommunity Events 4.7.23//EN
METHOD:PUBLISH
CALSCALE:GREGORIAN
REFRESH-INTERVAL:PT15M
X-PUBLISHED-TTL:PT15M
X-WR-CALNAME:At My TV
NAME:At My TV
BEGIN:VTIMEZONE
TZID:Europe/London
TZURL:http://tzurl.org/zoneinfo/Europe/London
X-LIC-LOCATION:Europe/London
BEGIN:DAYLIGHT
TZOFFSETFROM:+0000
TZOFFSETTO:+0100
TZNAME:BST
DTSTART:20190331T020000Z
RRULE:FREQ=YEARLY;BYMONTH=3;BYDAY=-1SU
END:DAYLIGHT
BEGIN:STANDARD
TZOFFSETFROM:+0100
TZOFFSETTO:+0000
TZNAME:GMT
DTSTART:20191027T020000Z
RRULE:FREQ=YEARLY;BYMONTH=10;BYDAY=-1SU
END:STANDARD
END:VTIMEZONE
BEGIN:VEVENT
SUMMARY:Empire (2015) 6x5 - Stronger Than My Rival
DTSTAMP:20191016T075954Z
SEQUENCE:0
UID:111268-2-841ebed20eb198c4569419e99b7bf40a@themidnightzone.com
ORGANIZER;CN="Midnight":midnight@themidnightzone.com
DESCRIPTION:Lucious\, still obsessed with his past\, tries to make amend
	sfor his wrongdoings with an old friend. Cookie vies to takecontrol of the
	 house\, putting the whole family in the middle.Andre and Lucious go head-
	to-head in a competition to figureout the direction Empire should be headi
	ng in. Meanwhile\,Becky and Giselle are at odds over the future of Bossy m
	usic.
DTSTART:20191106T020000Z
DTEND:20191106T030000Z
END:VEVENT
END:VCALENDAR
