BEGIN:VCALENDAR
VERSION:2.0
PRODID:-//InvisionCommunity Events 4.7.23//EN
METHOD:PUBLISH
CALSCALE:GREGORIAN
REFRESH-INTERVAL:PT15M
X-PUBLISHED-TTL:PT15M
X-WR-CALNAME:At My TV
NAME:At My TV
BEGIN:VTIMEZONE
TZID:Europe/London
TZURL:http://tzurl.org/zoneinfo/Europe/London
X-LIC-LOCATION:Europe/London
BEGIN:DAYLIGHT
TZOFFSETFROM:+0000
TZOFFSETTO:+0100
TZNAME:BST
DTSTART:20190331T020000Z
RRULE:FREQ=YEARLY;BYMONTH=3;BYDAY=-1SU
END:DAYLIGHT
BEGIN:STANDARD
TZOFFSETFROM:+0100
TZOFFSETTO:+0000
TZNAME:GMT
DTSTART:20191027T020000Z
RRULE:FREQ=YEARLY;BYMONTH=10;BYDAY=-1SU
END:STANDARD
END:VTIMEZONE
BEGIN:VEVENT
SUMMARY:World on Fire 1x5 - Episode 5
DTSTAMP:20191024T075948Z
SEQUENCE:0
UID:111820-2-841ebed20eb198c4569419e99b7bf40a@themidnightzone.com
ORGANIZER;CN="Midnight":midnight@themidnightzone.com
DESCRIPTION:As thousands flee Nazi-occupied Belgium\, Harry\, Stan and t
	herest of their unit take the last route out of France - the roadto Dunkir
	k\, where Grzegorz fights his way to the front of aqueue to board a boat -
	 only to be thrown back by angrysoldiers. In Manchester\, Douglas finds so
	lace in his rapportwith Jan\, as his growing anxiety about Tom pushes him 
	to thebrink\, while in Berlin the Rosslers grow ever more fearful forHilda
	.
DTSTART:20191027T210000Z
DTEND:20191027T220000Z
END:VEVENT
END:VCALENDAR
