BEGIN:VCALENDAR
VERSION:2.0
PRODID:-//InvisionCommunity Events 4.7.23//EN
METHOD:PUBLISH
CALSCALE:GREGORIAN
REFRESH-INTERVAL:PT15M
X-PUBLISHED-TTL:PT15M
X-WR-CALNAME:At My TV
NAME:At My TV
BEGIN:VTIMEZONE
TZID:Europe/London
TZURL:http://tzurl.org/zoneinfo/Europe/London
X-LIC-LOCATION:Europe/London
BEGIN:DAYLIGHT
TZOFFSETFROM:+0000
TZOFFSETTO:+0100
TZNAME:BST
DTSTART:20190331T020000Z
RRULE:FREQ=YEARLY;BYMONTH=3;BYDAY=-1SU
END:DAYLIGHT
BEGIN:STANDARD
TZOFFSETFROM:+0100
TZOFFSETTO:+0000
TZNAME:GMT
DTSTART:20191027T020000Z
RRULE:FREQ=YEARLY;BYMONTH=10;BYDAY=-1SU
END:STANDARD
END:VTIMEZONE
BEGIN:VEVENT
SUMMARY:Saturday Night Live 45x10 - Eddie Murphy / Lizzo
DTSTAMP:20191208T190308Z
SEQUENCE:0
UID:112817-2-841ebed20eb198c4569419e99b7bf40a@themidnightzone.com
ORGANIZER;CN="Midnight":midnight@themidnightzone.com
DESCRIPTION:Former \"SNL\" cast member Eddie Murphy will return to make 
	hisfirst appearance as \"SNL\" host since 1984 on Dec. 21. Murphystars in 
	and produces \"Dolemite Is My Name\,\" currentlystreaming on Netflix.Lizzo
	 will make her \"SNL\" musical guestdebut. Earlier this year she released 
	her acclaimed album\,\"Cuz I Love You\,\" and just received eight Grammy A
	wardnominations\, becoming this year's most nominated artist.
DTSTART:20191222T042900Z
DTEND:20191222T055900Z
END:VEVENT
END:VCALENDAR
