BEGIN:VCALENDAR
VERSION:2.0
PRODID:-//InvisionCommunity Events 4.7.23//EN
METHOD:PUBLISH
CALSCALE:GREGORIAN
REFRESH-INTERVAL:PT15M
X-PUBLISHED-TTL:PT15M
X-WR-CALNAME:At My TV
NAME:At My TV
BEGIN:VTIMEZONE
TZID:Europe/London
TZURL:http://tzurl.org/zoneinfo/Europe/London
X-LIC-LOCATION:Europe/London
BEGIN:DAYLIGHT
TZOFFSETFROM:+0000
TZOFFSETTO:+0100
TZNAME:BST
DTSTART:20200329T020000Z
RRULE:FREQ=YEARLY;BYMONTH=3;BYDAY=-1SU
END:DAYLIGHT
BEGIN:STANDARD
TZOFFSETFROM:+0100
TZOFFSETTO:+0000
TZNAME:GMT
DTSTART:20201025T020000Z
RRULE:FREQ=YEARLY;BYMONTH=10;BYDAY=-1SU
END:STANDARD
END:VTIMEZONE
BEGIN:VEVENT
SUMMARY:60 Minutes 52x13 - Jeffrey Epstein | Antibiotics on the Farm
	 |Shakira
DTSTAMP:20191216T110252Z
SEQUENCE:0
UID:113033-2-841ebed20eb198c4569419e99b7bf40a@themidnightzone.com
ORGANIZER;CN="Midnight":midnight@themidnightzone.com
DESCRIPTION:Jeffrey Epstein – Sharyn Alfonsi reports on new questionsa
	bout the death of convicted sex offender Jeffrey Epstein in afederal jail 
	cell. Antibiotics on the Farm – Lesley Stahlreports on the rise of antib
	iotic-resistant bugs and theirrelationship to the use of antibiotics in fa
	rm animals. Shakira– The multiple GRAMMY-winning singer strives for a pe
	rfectionshe admits is impossible. Bill Whitaker profiles Shakira a fewweek
	s before she is scheduled to perform at the halftime showfor Super Bowl LI
	V.
DTSTART:20200106T000000Z
DTEND:20200106T010000Z
END:VEVENT
END:VCALENDAR
