BEGIN:VCALENDAR
VERSION:2.0
PRODID:-//InvisionCommunity Events 4.7.23//EN
METHOD:PUBLISH
CALSCALE:GREGORIAN
REFRESH-INTERVAL:PT15M
X-PUBLISHED-TTL:PT15M
X-WR-CALNAME:At My TV
NAME:At My TV
BEGIN:VTIMEZONE
TZID:Europe/London
TZURL:http://tzurl.org/zoneinfo/Europe/London
X-LIC-LOCATION:Europe/London
BEGIN:DAYLIGHT
TZOFFSETFROM:+0000
TZOFFSETTO:+0100
TZNAME:BST
DTSTART:20190331T020000Z
RRULE:FREQ=YEARLY;BYMONTH=3;BYDAY=-1SU
END:DAYLIGHT
BEGIN:STANDARD
TZOFFSETFROM:+0100
TZOFFSETTO:+0000
TZNAME:GMT
DTSTART:20191027T020000Z
RRULE:FREQ=YEARLY;BYMONTH=10;BYDAY=-1SU
END:STANDARD
END:VTIMEZONE
BEGIN:VEVENT
SUMMARY:60 Minutes 52x12 - A Central Ally | The Lost Music
DTSTAMP:20191216T110252Z
SEQUENCE:0
UID:113037-2-841ebed20eb198c4569419e99b7bf40a@themidnightzone.com
ORGANIZER;CN="Midnight":midnight@themidnightzone.com
DESCRIPTION:A Central Ally – In the last year\, 90\,000 Salvadorans ha
	vebeen apprehended at the U.S. Southern border. The migrants arefleeing ec
	onomic hardship and\, in many cases\, gang violence– a vicious combinati
	on making it extremely difficult forNayib Bukele\, El Salvador's young pre
	sident\, to improve hiscountry. Sharyn Alfonsi reports. The Lost Music –
	 An Italiancomposer and pianist who converted to Judaism\, FrancescoLotoro
	\, has made it his mission to recover\, catalog\, andperform music written
	 during the Holocaust – including worksdone secretly by prisoners in Naz
	i concentration camps. JonWertheim reports.
DTSTART:20191216T000000Z
DTEND:20191216T010000Z
END:VEVENT
END:VCALENDAR
