BEGIN:VCALENDAR
VERSION:2.0
PRODID:-//InvisionCommunity Events 4.7.23//EN
METHOD:PUBLISH
CALSCALE:GREGORIAN
REFRESH-INTERVAL:PT15M
X-PUBLISHED-TTL:PT15M
X-WR-CALNAME:At My TV
NAME:At My TV
BEGIN:VTIMEZONE
TZID:Europe/London
TZURL:http://tzurl.org/zoneinfo/Europe/London
X-LIC-LOCATION:Europe/London
BEGIN:DAYLIGHT
TZOFFSETFROM:+0000
TZOFFSETTO:+0100
TZNAME:BST
DTSTART:20200329T020000Z
RRULE:FREQ=YEARLY;BYMONTH=3;BYDAY=-1SU
END:DAYLIGHT
BEGIN:STANDARD
TZOFFSETFROM:+0100
TZOFFSETTO:+0000
TZNAME:GMT
DTSTART:20201025T020000Z
RRULE:FREQ=YEARLY;BYMONTH=10;BYDAY=-1SU
END:STANDARD
END:VTIMEZONE
BEGIN:VEVENT
SUMMARY:Worst Cooks in America 18x1 - Bottom's Up
DTSTAMP:20191223T110244Z
SEQUENCE:0
UID:113204-2-841ebed20eb198c4569419e99b7bf40a@themidnightzone.com
ORGANIZER;CN="Midnight":midnight@themidnightzone.com
DESCRIPTION:Sixteen of the worst cooks in America enter boot camp withdr
	eams of putting their kitchen nightmares behind them. Foodbrainiac Alton B
	rown and Chef Anne Burrell want to see whatthey're dealing with\, so they 
	ask the recruits to make abaseline dish\, and the results are truly disast
	rous. Afterbeing sorted into teams\, the recruits try to make their chef's
	chicken soup and sandwich dish\, and the recruits with theworst dishes are
	 sent home.
DTSTART:20200106T020000Z
DTEND:20200106T030000Z
END:VEVENT
END:VCALENDAR
