BEGIN:VCALENDAR
VERSION:2.0
PRODID:-//InvisionCommunity Events 4.7.23//EN
METHOD:PUBLISH
CALSCALE:GREGORIAN
REFRESH-INTERVAL:PT15M
X-PUBLISHED-TTL:PT15M
X-WR-CALNAME:At My TV
NAME:At My TV
BEGIN:VTIMEZONE
TZID:Europe/London
TZURL:http://tzurl.org/zoneinfo/Europe/London
X-LIC-LOCATION:Europe/London
BEGIN:DAYLIGHT
TZOFFSETFROM:+0000
TZOFFSETTO:+0100
TZNAME:BST
DTSTART:20200329T020000Z
RRULE:FREQ=YEARLY;BYMONTH=3;BYDAY=-1SU
END:DAYLIGHT
BEGIN:STANDARD
TZOFFSETFROM:+0100
TZOFFSETTO:+0000
TZNAME:GMT
DTSTART:20201025T020000Z
RRULE:FREQ=YEARLY;BYMONTH=10;BYDAY=-1SU
END:STANDARD
END:VTIMEZONE
BEGIN:VEVENT
SUMMARY:The Resident 3x11 - Free Fall
DTSTAMP:20191225T110243Z
SEQUENCE:0
UID:113282-2-841ebed20eb198c4569419e99b7bf40a@themidnightzone.com
ORGANIZER;CN="Midnight":midnight@themidnightzone.com
DESCRIPTION:After being terminated from Chastain\, Conrad has difficulty
	figuring out his next step and distracts himself byaccompanying a patient 
	on a zero-gravity adventure. In hisfirst move as the new Chief of Surgery\
	, Cain puts the doctorson a commission-based pay system\, which causes Dev
	on's newintern to agree to a procedure before weighing the risks.Meanwhile
	\, Mina struggles with taking care of Adaku's baby andBell's supplement co
	mpany get its big break.
DTSTART:20200108T010000Z
DTEND:20200108T020000Z
END:VEVENT
END:VCALENDAR
