BEGIN:VCALENDAR
VERSION:2.0
PRODID:-//InvisionCommunity Events 4.7.23//EN
METHOD:PUBLISH
CALSCALE:GREGORIAN
REFRESH-INTERVAL:PT15M
X-PUBLISHED-TTL:PT15M
X-WR-CALNAME:At My TV
NAME:At My TV
BEGIN:VTIMEZONE
TZID:Europe/London
TZURL:http://tzurl.org/zoneinfo/Europe/London
X-LIC-LOCATION:Europe/London
BEGIN:DAYLIGHT
TZOFFSETFROM:+0000
TZOFFSETTO:+0100
TZNAME:BST
DTSTART:20200329T020000Z
RRULE:FREQ=YEARLY;BYMONTH=3;BYDAY=-1SU
END:DAYLIGHT
BEGIN:STANDARD
TZOFFSETFROM:+0100
TZOFFSETTO:+0000
TZNAME:GMT
DTSTART:20201025T020000Z
RRULE:FREQ=YEARLY;BYMONTH=10;BYDAY=-1SU
END:STANDARD
END:VTIMEZONE
BEGIN:VEVENT
SUMMARY:Worst Cooks in America 18x2 - Indulge Me
DTSTAMP:20191230T110239Z
SEQUENCE:0
UID:113455-2-841ebed20eb198c4569419e99b7bf40a@themidnightzone.com
ORGANIZER;CN="Midnight":midnight@themidnightzone.com
DESCRIPTION:The recruits enter boot camp and find out that the theme isi
	ndulgence. Their first lesson is that salads can beindulgent\, too\, and t
	he recruits play a game where saladelements are tossed into a bowl on thei
	r teammate's head. AltonBrown and Anne Burrell teach the recruits how to m
	ake freshmozzarella for a salad\, and for the main dish challenge\, therec
	ruits re-create their chef's craveable dish. The recruitswho indulge their
	 worst tendencies in the kitchen will be senthome.
DTSTART:20200113T020000Z
DTEND:20200113T030000Z
END:VEVENT
END:VCALENDAR
