BEGIN:VCALENDAR
VERSION:2.0
PRODID:-//InvisionCommunity Events 4.7.23//EN
METHOD:PUBLISH
CALSCALE:GREGORIAN
REFRESH-INTERVAL:PT15M
X-PUBLISHED-TTL:PT15M
X-WR-CALNAME:At My TV
NAME:At My TV
BEGIN:VTIMEZONE
TZID:Europe/London
TZURL:http://tzurl.org/zoneinfo/Europe/London
X-LIC-LOCATION:Europe/London
BEGIN:DAYLIGHT
TZOFFSETFROM:+0000
TZOFFSETTO:+0100
TZNAME:BST
DTSTART:20200329T020000Z
RRULE:FREQ=YEARLY;BYMONTH=3;BYDAY=-1SU
END:DAYLIGHT
BEGIN:STANDARD
TZOFFSETFROM:+0100
TZOFFSETTO:+0000
TZNAME:GMT
DTSTART:20201025T020000Z
RRULE:FREQ=YEARLY;BYMONTH=10;BYDAY=-1SU
END:STANDARD
END:VTIMEZONE
BEGIN:VEVENT
SUMMARY:Beat Bobby Flay 23x5 - That's Amore
DTSTAMP:20191231T110238Z
SEQUENCE:0
UID:113497-2-841ebed20eb198c4569419e99b7bf40a@themidnightzone.com
ORGANIZER;CN="Midnight":midnight@themidnightzone.com
DESCRIPTION:Food Network Star winner Christian Petroni joins forces with
	Chef Carla Hall to take down Bobby Flay\, and they brings twodynamic chefs
	 who have mastered the food of his motherland\,Italy. Chefs Daniele Uditi 
	and Chris Thompson are both ready tohear the judges say\, \"That's amore!\
	,\" when they beat Bobby.
DTSTART:20200113T030000Z
DTEND:20200113T033000Z
END:VEVENT
END:VCALENDAR
