BEGIN:VCALENDAR
VERSION:2.0
PRODID:-//InvisionCommunity Events 4.7.23//EN
METHOD:PUBLISH
CALSCALE:GREGORIAN
REFRESH-INTERVAL:PT15M
X-PUBLISHED-TTL:PT15M
X-WR-CALNAME:At My TV
NAME:At My TV
BEGIN:VTIMEZONE
TZID:Europe/London
TZURL:http://tzurl.org/zoneinfo/Europe/London
X-LIC-LOCATION:Europe/London
BEGIN:DAYLIGHT
TZOFFSETFROM:+0000
TZOFFSETTO:+0100
TZNAME:BST
DTSTART:20200329T020000Z
RRULE:FREQ=YEARLY;BYMONTH=3;BYDAY=-1SU
END:DAYLIGHT
BEGIN:STANDARD
TZOFFSETFROM:+0100
TZOFFSETTO:+0000
TZNAME:GMT
DTSTART:20201025T020000Z
RRULE:FREQ=YEARLY;BYMONTH=10;BYDAY=-1SU
END:STANDARD
END:VTIMEZONE
BEGIN:VEVENT
SUMMARY:Legacies 2x9 - I Couldn't Have Done This Without You
DTSTAMP:20200103T110236Z
SEQUENCE:0
UID:113660-2-841ebed20eb198c4569419e99b7bf40a@themidnightzone.com
ORGANIZER;CN="Midnight":midnight@themidnightzone.com
DESCRIPTION:Back and ready to wreak havoc\, The Necromancer's plan forre
	venge on Malivore takes a turn when he realizes he is now ahuman and power
	less. To mend fences with Josie\, Hope offers tohelp her learn more about 
	the mora miserium. Elsewhere\, Alaricenlists Landon's help to find out if 
	Sebastian is a threat tothe school.
DTSTART:20200117T020000Z
DTEND:20200117T030000Z
END:VEVENT
END:VCALENDAR
