BEGIN:VCALENDAR
VERSION:2.0
PRODID:-//InvisionCommunity Events 4.7.23//EN
METHOD:PUBLISH
CALSCALE:GREGORIAN
REFRESH-INTERVAL:PT15M
X-PUBLISHED-TTL:PT15M
X-WR-CALNAME:At My TV
NAME:At My TV
BEGIN:VTIMEZONE
TZID:Europe/London
TZURL:http://tzurl.org/zoneinfo/Europe/London
X-LIC-LOCATION:Europe/London
BEGIN:DAYLIGHT
TZOFFSETFROM:+0000
TZOFFSETTO:+0100
TZNAME:BST
DTSTART:20200329T020000Z
RRULE:FREQ=YEARLY;BYMONTH=3;BYDAY=-1SU
END:DAYLIGHT
BEGIN:STANDARD
TZOFFSETFROM:+0100
TZOFFSETTO:+0000
TZNAME:GMT
DTSTART:20201025T020000Z
RRULE:FREQ=YEARLY;BYMONTH=10;BYDAY=-1SU
END:STANDARD
END:VTIMEZONE
BEGIN:VEVENT
SUMMARY:Project Runway 18x5 - She's Sew Unusual
DTSTAMP:20200104T110234Z
SEQUENCE:0
UID:113709-2-841ebed20eb198c4569419e99b7bf40a@themidnightzone.com
ORGANIZER;CN="Midnight":midnight@themidnightzone.com
DESCRIPTION:The iconic Cyndi Lauper is both inspiration and guest judge 
	forthis totally tubular team challenge. Split into two teams\, thedesigner
	s must create cohesive mini-collections. They need tocollaborate to pay ho
	mage to Cyndi's '80s fashion trailblazingthat brought underground punk int
	o the pop culture while stillgiving the looks a totally awesome modern tak
	e. Sounds prettystraight forward until Christian throws out a mid-challeng
	etwist that changes everything.
DTSTART:20200110T020000Z
DTEND:20200110T033000Z
END:VEVENT
END:VCALENDAR
