BEGIN:VCALENDAR
VERSION:2.0
PRODID:-//InvisionCommunity Events 4.7.23//EN
METHOD:PUBLISH
CALSCALE:GREGORIAN
REFRESH-INTERVAL:PT15M
X-PUBLISHED-TTL:PT15M
X-WR-CALNAME:At My TV
NAME:At My TV
BEGIN:VTIMEZONE
TZID:Europe/London
TZURL:http://tzurl.org/zoneinfo/Europe/London
X-LIC-LOCATION:Europe/London
BEGIN:DAYLIGHT
TZOFFSETFROM:+0000
TZOFFSETTO:+0100
TZNAME:BST
DTSTART:20200329T020000Z
RRULE:FREQ=YEARLY;BYMONTH=3;BYDAY=-1SU
END:DAYLIGHT
BEGIN:STANDARD
TZOFFSETFROM:+0100
TZOFFSETTO:+0000
TZNAME:GMT
DTSTART:20201025T020000Z
RRULE:FREQ=YEARLY;BYMONTH=10;BYDAY=-1SU
END:STANDARD
END:VTIMEZONE
BEGIN:VEVENT
SUMMARY:Worst Cooks in America 18x3 - Chinese New Year
DTSTAMP:20200106T110233Z
SEQUENCE:0
UID:113806-2-841ebed20eb198c4569419e99b7bf40a@themidnightzone.com
ORGANIZER;CN="Midnight":midnight@themidnightzone.com
DESCRIPTION:The recruits enter boot camp and see it transformed for aChi
	nese New Year celebration. First\, they play a game wherefortune cookie cl
	ues lead them to ingredients\, and they learnto make fried rice. For the m
	ain dish challenge\, Anne Burrelland Alton Brown mentor the recruits as th
	ey make dumplings\,and while some dumplings are great\, others are filled 
	withdisappointment.
DTSTART:20200120T020000Z
DTEND:20200120T030000Z
END:VEVENT
END:VCALENDAR
