BEGIN:VCALENDAR
VERSION:2.0
PRODID:-//InvisionCommunity Events 4.7.23//EN
METHOD:PUBLISH
CALSCALE:GREGORIAN
REFRESH-INTERVAL:PT15M
X-PUBLISHED-TTL:PT15M
X-WR-CALNAME:At My TV
NAME:At My TV
BEGIN:VTIMEZONE
TZID:Europe/London
TZURL:http://tzurl.org/zoneinfo/Europe/London
X-LIC-LOCATION:Europe/London
BEGIN:DAYLIGHT
TZOFFSETFROM:+0000
TZOFFSETTO:+0100
TZNAME:BST
DTSTART:20200329T020000Z
RRULE:FREQ=YEARLY;BYMONTH=3;BYDAY=-1SU
END:DAYLIGHT
BEGIN:STANDARD
TZOFFSETFROM:+0100
TZOFFSETTO:+0000
TZNAME:GMT
DTSTART:20201025T020000Z
RRULE:FREQ=YEARLY;BYMONTH=10;BYDAY=-1SU
END:STANDARD
END:VTIMEZONE
BEGIN:VEVENT
SUMMARY:Almost Family 1x12 - Permanent AF
DTSTAMP:20200109T110229Z
SEQUENCE:0
UID:113986-2-841ebed20eb198c4569419e99b7bf40a@themidnightzone.com
ORGANIZER;CN="Midnight":midnight@themidnightzone.com
DESCRIPTION:The trial against Dr. Bechley begins with a powerful opening
	statement from the prosecution\, leaving Leon scared and Timwondering if E
	die should rejoin the defense team. Tensions risewhen Chad makes a threat 
	to bring Edie and Amanda's affair tothe judge's attention. Meanwhile\, Jul
	ia gains the confidenceto approach Donovan again about her desire for a fa
	mily.
DTSTART:20200223T010000Z
DTEND:20200223T020000Z
END:VEVENT
END:VCALENDAR
