BEGIN:VCALENDAR
VERSION:2.0
PRODID:-//InvisionCommunity Events 4.7.23//EN
METHOD:PUBLISH
CALSCALE:GREGORIAN
REFRESH-INTERVAL:PT15M
X-PUBLISHED-TTL:PT15M
X-WR-CALNAME:At My TV
NAME:At My TV
BEGIN:VTIMEZONE
TZID:Europe/London
TZURL:http://tzurl.org/zoneinfo/Europe/London
X-LIC-LOCATION:Europe/London
BEGIN:DAYLIGHT
TZOFFSETFROM:+0000
TZOFFSETTO:+0100
TZNAME:BST
DTSTART:20200329T020000Z
RRULE:FREQ=YEARLY;BYMONTH=3;BYDAY=-1SU
END:DAYLIGHT
BEGIN:STANDARD
TZOFFSETFROM:+0100
TZOFFSETTO:+0000
TZNAME:GMT
DTSTART:20201025T020000Z
RRULE:FREQ=YEARLY;BYMONTH=10;BYDAY=-1SU
END:STANDARD
END:VTIMEZONE
BEGIN:VEVENT
SUMMARY:Doctor Who 12x4 - Nikola Tesla's Night of Terror
DTSTAMP:20200110T110226Z
SEQUENCE:0
UID:114078-2-841ebed20eb198c4569419e99b7bf40a@themidnightzone.com
ORGANIZER;CN="Midnight":midnight@themidnightzone.com
DESCRIPTION:It is 1903 and on the edge of Niagara Falls\, something iswr
	ong at Nikola Tesla's generator plant\, where someone – orsomething – 
	is sabotaging the maverick inventor's work. HasTesla really received a mes
	sage from Mars? And where does hisgreat rival Thomas Edison fit into these
	 events? The Doctor andher companions Yaz\, Ryan and Graham must join forc
	es with oneof history's greatest minds to save both him and planet Earth.
DTSTART:20200119T191000Z
DTEND:20200119T195500Z
END:VEVENT
END:VCALENDAR
