BEGIN:VCALENDAR
VERSION:2.0
PRODID:-//InvisionCommunity Events 4.7.23//EN
METHOD:PUBLISH
CALSCALE:GREGORIAN
REFRESH-INTERVAL:PT15M
X-PUBLISHED-TTL:PT15M
X-WR-CALNAME:At My TV
NAME:At My TV
BEGIN:VTIMEZONE
TZID:Europe/London
TZURL:http://tzurl.org/zoneinfo/Europe/London
X-LIC-LOCATION:Europe/London
BEGIN:DAYLIGHT
TZOFFSETFROM:+0000
TZOFFSETTO:+0100
TZNAME:BST
DTSTART:20200329T020000Z
RRULE:FREQ=YEARLY;BYMONTH=3;BYDAY=-1SU
END:DAYLIGHT
BEGIN:STANDARD
TZOFFSETFROM:+0100
TZOFFSETTO:+0000
TZNAME:GMT
DTSTART:20201025T020000Z
RRULE:FREQ=YEARLY;BYMONTH=10;BYDAY=-1SU
END:STANDARD
END:VTIMEZONE
BEGIN:VEVENT
SUMMARY:The Graham Norton Show 26x15 - Robert Downey Jr\, EmmaThomps
	on\, Hugh Laurie\, Terry Gilliam\, Sara Bareilles
DTSTAMP:20200112T110225Z
SEQUENCE:0
UID:114135-2-841ebed20eb198c4569419e99b7bf40a@themidnightzone.com
ORGANIZER;CN="Midnight":midnight@themidnightzone.com
DESCRIPTION:Together on Graham's sofa tonight\, the stars of new fantasy
	adventure Dolittle\, Iron Man Robert Downey Jr and Oscar-winnerEmma Thomps
	on. Also actor Hugh Laurie\, who appears in ThePersonal History of David C
	opperfield\, Monty Python's TerryGilliam\, director of The Man Who Killed 
	Don Quixote and musicfrom Sara Bareilles\, performing She Used to Be Mine 
	from hermusical Waitress.
DTSTART:20200124T223500Z
DTEND:20200124T232500Z
END:VEVENT
END:VCALENDAR
