BEGIN:VCALENDAR
VERSION:2.0
PRODID:-//InvisionCommunity Events 4.7.23//EN
METHOD:PUBLISH
CALSCALE:GREGORIAN
REFRESH-INTERVAL:PT15M
X-PUBLISHED-TTL:PT15M
X-WR-CALNAME:At My TV
NAME:At My TV
BEGIN:VTIMEZONE
TZID:Europe/London
TZURL:http://tzurl.org/zoneinfo/Europe/London
X-LIC-LOCATION:Europe/London
BEGIN:DAYLIGHT
TZOFFSETFROM:+0000
TZOFFSETTO:+0100
TZNAME:BST
DTSTART:20200329T020000Z
RRULE:FREQ=YEARLY;BYMONTH=3;BYDAY=-1SU
END:DAYLIGHT
BEGIN:STANDARD
TZOFFSETFROM:+0100
TZOFFSETTO:+0000
TZNAME:GMT
DTSTART:20201025T020000Z
RRULE:FREQ=YEARLY;BYMONTH=10;BYDAY=-1SU
END:STANDARD
END:VTIMEZONE
BEGIN:VEVENT
SUMMARY:The Resident 3x14 - The Flea
DTSTAMP:20200115T110224Z
SEQUENCE:0
UID:114284-2-841ebed20eb198c4569419e99b7bf40a@themidnightzone.com
ORGANIZER;CN="Midnight":midnight@themidnightzone.com
DESCRIPTION:Cain feels disrespected by Logan Kim when he is left out of 
	amajor decision regarding Conrad. Meanwhile\, the doctors worktogether to 
	try to save the lives of two big Red Rock donorswho were involved in a jet
	 skiing accident. Then\, Irving andDevon realize that three of their patie
	nts\, all with differentsymptoms\, could actually be triggered by the same
	 thing.Also\, Bell's supplement company proves to be more lucrativethan an
	yone anticipated\, but an unexpected snag could put itin jeopardy.
DTSTART:20200129T010000Z
DTEND:20200129T020000Z
END:VEVENT
END:VCALENDAR
