BEGIN:VCALENDAR
VERSION:2.0
PRODID:-//InvisionCommunity Events 4.7.23//EN
METHOD:PUBLISH
CALSCALE:GREGORIAN
REFRESH-INTERVAL:PT15M
X-PUBLISHED-TTL:PT15M
X-WR-CALNAME:At My TV
NAME:At My TV
BEGIN:VTIMEZONE
TZID:Europe/London
TZURL:http://tzurl.org/zoneinfo/Europe/London
X-LIC-LOCATION:Europe/London
BEGIN:DAYLIGHT
TZOFFSETFROM:+0000
TZOFFSETTO:+0100
TZNAME:BST
DTSTART:20200329T020000Z
RRULE:FREQ=YEARLY;BYMONTH=3;BYDAY=-1SU
END:DAYLIGHT
BEGIN:STANDARD
TZOFFSETFROM:+0100
TZOFFSETTO:+0000
TZNAME:GMT
DTSTART:20201025T020000Z
RRULE:FREQ=YEARLY;BYMONTH=10;BYDAY=-1SU
END:STANDARD
END:VTIMEZONE
BEGIN:VEVENT
SUMMARY:McMillion$ 1x3 - Episode 3
DTSTAMP:20200206T194937Z
SEQUENCE:0
UID:114784-2-841ebed20eb198c4569419e99b7bf40a@themidnightzone.com
ORGANIZER;CN="Midnight":midnight@themidnightzone.com
DESCRIPTION:Frank Colombo\, the brother of Gennaro \"Jerry\" Colombo\,re
	veals the inner workings of the scam whereby \"Uncle Jerry\"would sell the
	 winning tickets to Gennaro \"Jerry\" Colombo for apremium. Colombo would 
	then find willing takers for the gametickets in exchange for a cut of the 
	prize money. Under thepretense of organizing a reunion for past winners\, 
	theundercover FBI video crew interviews Gloria Brown\, a singlemom and mil
	lion-dollar \"winner\" in South Carolina\, who triesto obscure her past in
	 Jacksonville and the origins of herwinning game ticket. Gennaro \"Jerry\"
	 Colombo and Robin Colomboseek to diversify their recruitment operation as
	 worries growabout obvious connections among \"winners\,\" and Jerome \"Je
	rry\"Jacobson continues to breathe down their necks. Arguing in thecar one
	 night\, with their infant son Francesco in the backseat\, the Colombos fa
	ce sudden danger.
DTSTART:20200218T030000Z
DTEND:20200218T040000Z
END:VEVENT
END:VCALENDAR
