BEGIN:VCALENDAR
VERSION:2.0
PRODID:-//InvisionCommunity Events 4.7.23//EN
METHOD:PUBLISH
CALSCALE:GREGORIAN
REFRESH-INTERVAL:PT15M
X-PUBLISHED-TTL:PT15M
X-WR-CALNAME:At My TV
NAME:At My TV
BEGIN:VTIMEZONE
TZID:Europe/London
TZURL:http://tzurl.org/zoneinfo/Europe/London
X-LIC-LOCATION:Europe/London
BEGIN:DAYLIGHT
TZOFFSETFROM:+0000
TZOFFSETTO:+0100
TZNAME:BST
DTSTART:20200329T020000Z
RRULE:FREQ=YEARLY;BYMONTH=3;BYDAY=-1SU
END:DAYLIGHT
BEGIN:STANDARD
TZOFFSETFROM:+0100
TZOFFSETTO:+0000
TZNAME:GMT
DTSTART:20201025T020000Z
RRULE:FREQ=YEARLY;BYMONTH=10;BYDAY=-1SU
END:STANDARD
END:VTIMEZONE
BEGIN:VEVENT
SUMMARY:Call The Midwife 9x7 - Episode 7
DTSTAMP:20200206T194937Z
SEQUENCE:0
UID:114832-2-841ebed20eb198c4569419e99b7bf40a@themidnightzone.com
ORGANIZER;CN="Midnight":midnight@themidnightzone.com
DESCRIPTION:Dr Kevin McNulty performs an excellent forceps delivery - hi
	sfinal supervision under Dr Turner. Trixie helps a blindmother\, Marion\, 
	care for her new baby\, but trouble startswhen Marion's sister calls Socia
	l Services tointervene. Meanwhile\, since Sgt. Woolf left\, Nurse Crane h
	asstarted to struggle with the cubs. Cyril suggests that he andLucille sho
	uld help Nurse Crane.
DTSTART:20200216T200000Z
DTEND:20200216T210000Z
END:VEVENT
END:VCALENDAR
