BEGIN:VCALENDAR
VERSION:2.0
PRODID:-//InvisionCommunity Events 4.7.23//EN
METHOD:PUBLISH
CALSCALE:GREGORIAN
REFRESH-INTERVAL:PT15M
X-PUBLISHED-TTL:PT15M
X-WR-CALNAME:At My TV
NAME:At My TV
BEGIN:VTIMEZONE
TZID:Europe/London
TZURL:http://tzurl.org/zoneinfo/Europe/London
X-LIC-LOCATION:Europe/London
BEGIN:DAYLIGHT
TZOFFSETFROM:+0000
TZOFFSETTO:+0100
TZNAME:BST
DTSTART:20200329T020000Z
RRULE:FREQ=YEARLY;BYMONTH=3;BYDAY=-1SU
END:DAYLIGHT
BEGIN:STANDARD
TZOFFSETFROM:+0100
TZOFFSETTO:+0000
TZNAME:GMT
DTSTART:20201025T020000Z
RRULE:FREQ=YEARLY;BYMONTH=10;BYDAY=-1SU
END:STANDARD
END:VTIMEZONE
BEGIN:VEVENT
SUMMARY:All American 2x12 - Only Time Will Tell
DTSTAMP:20200206T194937Z
SEQUENCE:0
UID:115013-2-841ebed20eb198c4569419e99b7bf40a@themidnightzone.com
ORGANIZER;CN="Midnight":midnight@themidnightzone.com
DESCRIPTION:Billy and Grace are concerned that Spencer is going to pushh
	imself too hard before he is ready\, which could make thingsworse for Spen
	cer in the long run. Determined to secure theirfootball future\, Spencer\,
	 Darnell and Jordan decide to go ona college football visit\, but Darnell'
	s chance might be takenaway by someone close to him. Asher's teammates and
	 Olivia havebeen noticing a difference in Asher's performance and attitude
	on and off the field\, leaving them to wonder why he is pushinghimself so 
	hard. Meanwhile\, Layla thinks she knows what shewants to do with her futu
	re and needs Coop to do it.
DTSTART:20200211T010000Z
DTEND:20200211T020000Z
END:VEVENT
END:VCALENDAR
