BEGIN:VCALENDAR
VERSION:2.0
PRODID:-//InvisionCommunity Events 4.7.23//EN
METHOD:PUBLISH
CALSCALE:GREGORIAN
REFRESH-INTERVAL:PT15M
X-PUBLISHED-TTL:PT15M
X-WR-CALNAME:At My TV
NAME:At My TV
BEGIN:VTIMEZONE
TZID:Europe/London
TZURL:http://tzurl.org/zoneinfo/Europe/London
X-LIC-LOCATION:Europe/London
BEGIN:DAYLIGHT
TZOFFSETFROM:+0000
TZOFFSETTO:+0100
TZNAME:BST
DTSTART:20200329T020000Z
RRULE:FREQ=YEARLY;BYMONTH=3;BYDAY=-1SU
END:DAYLIGHT
BEGIN:STANDARD
TZOFFSETFROM:+0100
TZOFFSETTO:+0000
TZNAME:GMT
DTSTART:20201025T020000Z
RRULE:FREQ=YEARLY;BYMONTH=10;BYDAY=-1SU
END:STANDARD
END:VTIMEZONE
BEGIN:VEVENT
SUMMARY:Worst Cooks in America 18x6 - Opposites Attract
DTSTAMP:20200206T194937Z
SEQUENCE:0
UID:115029-2-841ebed20eb198c4569419e99b7bf40a@themidnightzone.com
ORGANIZER;CN="Midnight":midnight@themidnightzone.com
DESCRIPTION:The recruits learn how to combine unlikely ingredients and k
	ickthings off with a game where they must punch their way tosuccess. Then 
	Alton Brown and Anne Burrell challenge therecruits to make a flatbread inc
	luding an unusual pairing\, andfor the main dish challenge\, they must mak
	e a dish pairingfruit and meat. It's a sweet victory for the recruits with
	 thebest dishes\, but for those with the worst dishes\, it's sourgrapes an
	d a ticket home.
DTSTART:20200210T020000Z
DTEND:20200210T030000Z
END:VEVENT
END:VCALENDAR
