BEGIN:VCALENDAR
VERSION:2.0
PRODID:-//InvisionCommunity Events 4.7.23//EN
METHOD:PUBLISH
CALSCALE:GREGORIAN
REFRESH-INTERVAL:PT15M
X-PUBLISHED-TTL:PT15M
X-WR-CALNAME:At My TV
NAME:At My TV
BEGIN:VTIMEZONE
TZID:Europe/London
TZURL:http://tzurl.org/zoneinfo/Europe/London
X-LIC-LOCATION:Europe/London
BEGIN:DAYLIGHT
TZOFFSETFROM:+0000
TZOFFSETTO:+0100
TZNAME:BST
DTSTART:20200329T020000Z
RRULE:FREQ=YEARLY;BYMONTH=3;BYDAY=-1SU
END:DAYLIGHT
BEGIN:STANDARD
TZOFFSETFROM:+0100
TZOFFSETTO:+0000
TZNAME:GMT
DTSTART:20201025T020000Z
RRULE:FREQ=YEARLY;BYMONTH=10;BYDAY=-1SU
END:STANDARD
END:VTIMEZONE
BEGIN:VEVENT
SUMMARY:Doctor Who 12x7 - Can You Hear Me?
DTSTAMP:20200206T194937Z
SEQUENCE:0
UID:115040-2-841ebed20eb198c4569419e99b7bf40a@themidnightzone.com
ORGANIZER;CN="Midnight":midnight@themidnightzone.com
DESCRIPTION:From ancient Syria to present day Sheffield\, and out into t
	hewilds of space\, something is stalking the Doctor and herfriends and inf
	ecting people's nightmares. As Graham\, Yaz andRyan return home to see fri
	ends and family\, they findthemselves haunted by very different experience
	s. Who is thefigure calling from beyond the stars for help\, and why? Andw
	hat are the fearsome Chagaskas terrorising Aleppo in 1380? Tofind the answ
	ers\, Team TARDIS embark on a mission that forcesthem to face their darkes
	t fears.
DTSTART:20200209T191000Z
DTEND:20200209T200000Z
END:VEVENT
END:VCALENDAR
