BEGIN:VCALENDAR
VERSION:2.0
PRODID:-//InvisionCommunity Events 4.7.23//EN
METHOD:PUBLISH
CALSCALE:GREGORIAN
REFRESH-INTERVAL:PT15M
X-PUBLISHED-TTL:PT15M
X-WR-CALNAME:At My TV
NAME:At My TV
BEGIN:VTIMEZONE
TZID:Europe/London
TZURL:http://tzurl.org/zoneinfo/Europe/London
X-LIC-LOCATION:Europe/London
BEGIN:DAYLIGHT
TZOFFSETFROM:+0000
TZOFFSETTO:+0100
TZNAME:BST
DTSTART:20200329T020000Z
RRULE:FREQ=YEARLY;BYMONTH=3;BYDAY=-1SU
END:DAYLIGHT
BEGIN:STANDARD
TZOFFSETFROM:+0100
TZOFFSETTO:+0000
TZNAME:GMT
DTSTART:20201025T020000Z
RRULE:FREQ=YEARLY;BYMONTH=10;BYDAY=-1SU
END:STANDARD
END:VTIMEZONE
BEGIN:VEVENT
SUMMARY:Saturday Night Live 45x13 - RuPaul / Justin Bieber
DTSTAMP:20200206T194937Z
SEQUENCE:0
UID:115044-2-841ebed20eb198c4569419e99b7bf40a@themidnightzone.com
ORGANIZER;CN="Midnight":midnight@themidnightzone.com
DESCRIPTION:RuPaul will make his debut appearance as \"SNL\" host. The E
	mmyAward-winning host of \"RuPaul's Drag Race\" currently stars inNetflix'
	s \"AJ and the Queen.\"Justin Bieber will take the stagefor his third appe
	arance as \"SNL\" musical guest. \"Yummy\,\"Bieber's new single from his h
	ighly anticipated new album\,broke records on radio and was streamed over 
	100 million timesin its debut week.
DTSTART:20200209T042900Z
DTEND:20200209T055900Z
END:VEVENT
END:VCALENDAR
