BEGIN:VCALENDAR
VERSION:2.0
PRODID:-//InvisionCommunity Events 4.7.23//EN
METHOD:PUBLISH
CALSCALE:GREGORIAN
REFRESH-INTERVAL:PT15M
X-PUBLISHED-TTL:PT15M
X-WR-CALNAME:Pogdesign
NAME:Pogdesign
BEGIN:VTIMEZONE
TZID:Europe/London
TZURL:http://tzurl.org/zoneinfo/Europe/London
X-LIC-LOCATION:Europe/London
BEGIN:DAYLIGHT
TZOFFSETFROM:+0000
TZOFFSETTO:+0100
TZNAME:BST
DTSTART:20200329T020000Z
RRULE:FREQ=YEARLY;BYMONTH=3;BYDAY=-1SU
END:DAYLIGHT
BEGIN:STANDARD
TZOFFSETFROM:+0100
TZOFFSETTO:+0000
TZNAME:GMT
DTSTART:20201025T020000Z
RRULE:FREQ=YEARLY;BYMONTH=10;BYDAY=-1SU
END:STANDARD
END:VTIMEZONE
BEGIN:VEVENT
SUMMARY:Katy Keene 1x1 - Chapter One: Once Upon a Time in New York
DTSTAMP:20200207T000004Z
SEQUENCE:0
UID:115455-3-841ebed20eb198c4569419e99b7bf40a@themidnightzone.com
ORGANIZER;CN="Midnight":midnight@themidnightzone.com
DESCRIPTION:Katy Keene struggles to manage the pressures of her day job 
	atLacy's Department Store and her very demanding boss\, Gloria\,who is a l
	egendary personal shopper. Lucky for Katy\, she hasthe support of her long
	time boyfriend\, KO Kelly\, who has hisown dream of becoming a professiona
	l boxer and a surprise Katywasn't expecting. Katy's roommate and close fri
	end\, Jorgeauditions for a Broadway play\, but it doesn't go as plannedand
	 he tries a different route to potentially get noticed. WhenKaty meet her 
	new roommate Josie\, she knows they will be fastfriends. Josie meets recor
	d producer Alexander Cabot\, but itis all seems too good to be true when A
	lexandra Cabot getsinvolved. After a long day\, the group of friends\, inc
	luding'It' girl Pepper\, all meet at their favorite hangout\, Molly'sCrisi
	s\, to watch Jorge perform as his alter ego\, Ginger\, andto see Katy's la
	test fashion creation.
DTSTART:20200206T200000Z
DTEND:20200206T210000Z
END:VEVENT
END:VCALENDAR
