BEGIN:VCALENDAR
VERSION:2.0
PRODID:-//InvisionCommunity Events 4.7.23//EN
METHOD:PUBLISH
CALSCALE:GREGORIAN
REFRESH-INTERVAL:PT15M
X-PUBLISHED-TTL:PT15M
X-WR-CALNAME:Pogdesign
NAME:Pogdesign
BEGIN:VTIMEZONE
TZID:Europe/London
TZURL:http://tzurl.org/zoneinfo/Europe/London
X-LIC-LOCATION:Europe/London
BEGIN:DAYLIGHT
TZOFFSETFROM:+0000
TZOFFSETTO:+0100
TZNAME:BST
DTSTART:20200329T020000Z
RRULE:FREQ=YEARLY;BYMONTH=3;BYDAY=-1SU
END:DAYLIGHT
BEGIN:STANDARD
TZOFFSETFROM:+0100
TZOFFSETTO:+0000
TZNAME:GMT
DTSTART:20201025T020000Z
RRULE:FREQ=YEARLY;BYMONTH=10;BYDAY=-1SU
END:STANDARD
END:VTIMEZONE
BEGIN:VEVENT
SUMMARY:Our Cartoon President 3x5 - Hillary 2020
DTSTAMP:20200210T080003Z
SEQUENCE:0
UID:115671-3-841ebed20eb198c4569419e99b7bf40a@themidnightzone.com
ORGANIZER;CN="Midnight":midnight@themidnightzone.com
DESCRIPTION:After Cartoon Michael Bloomberg's campaign stumbles\, heenli
	sts Cartoon Hillary Clinton to take up the billionairecause and launch a r
	un for president. Meanwhile\, CartoonKellyanne Conway and Cartoon Larry Ku
	dlow grow tired ofdefending the president's insanity and enlist Cartoon El
	on Muskto create an Oval Office simulator to distract Cartoon Trump.
DTSTART:20200223T200000Z
DTEND:20200223T203000Z
END:VEVENT
END:VCALENDAR
