BEGIN:VCALENDAR
VERSION:2.0
PRODID:-//InvisionCommunity Events 4.7.23//EN
METHOD:PUBLISH
CALSCALE:GREGORIAN
REFRESH-INTERVAL:PT15M
X-PUBLISHED-TTL:PT15M
X-WR-CALNAME:At My TV
NAME:At My TV
BEGIN:VTIMEZONE
TZID:Europe/London
TZURL:http://tzurl.org/zoneinfo/Europe/London
X-LIC-LOCATION:Europe/London
BEGIN:DAYLIGHT
TZOFFSETFROM:+0000
TZOFFSETTO:+0100
TZNAME:BST
DTSTART:20200329T020000Z
RRULE:FREQ=YEARLY;BYMONTH=3;BYDAY=-1SU
END:DAYLIGHT
BEGIN:STANDARD
TZOFFSETFROM:+0100
TZOFFSETTO:+0000
TZNAME:GMT
DTSTART:20201025T020000Z
RRULE:FREQ=YEARLY;BYMONTH=10;BYDAY=-1SU
END:STANDARD
END:VTIMEZONE
BEGIN:VEVENT
SUMMARY:Single Parents 2x17 - Untz\, Untz\, Untz
DTSTAMP:20200213T115701Z
SEQUENCE:0
UID:115885-2-841ebed20eb198c4569419e99b7bf40a@themidnightzone.com
ORGANIZER;CN="Midnight":midnight@themidnightzone.com
DESCRIPTION:Angie uses Sophie as bait to get time with her crush Colin b
	ysetting up Sophie and Percy\, Colin's son\, on a playdate atAngie's house
	. Meanwhile\, Poppy and Douglas navigate Douglas'first night sleeping at P
	oppy's house\, which doesn't go asexpected\; and Graham and Will go on a b
	ro-date of their own tothe pizza parlor.
DTSTART:20200227T023000Z
DTEND:20200227T030000Z
END:VEVENT
END:VCALENDAR
