BEGIN:VCALENDAR
VERSION:2.0
PRODID:-//InvisionCommunity Events 4.7.23//EN
METHOD:PUBLISH
CALSCALE:GREGORIAN
REFRESH-INTERVAL:PT15M
X-PUBLISHED-TTL:PT15M
X-WR-CALNAME:At My TV
NAME:At My TV
BEGIN:VTIMEZONE
TZID:Europe/London
TZURL:http://tzurl.org/zoneinfo/Europe/London
X-LIC-LOCATION:Europe/London
BEGIN:DAYLIGHT
TZOFFSETFROM:+0000
TZOFFSETTO:+0100
TZNAME:BST
DTSTART:20200329T020000Z
RRULE:FREQ=YEARLY;BYMONTH=3;BYDAY=-1SU
END:DAYLIGHT
BEGIN:STANDARD
TZOFFSETFROM:+0100
TZOFFSETTO:+0000
TZNAME:GMT
DTSTART:20201025T020000Z
RRULE:FREQ=YEARLY;BYMONTH=10;BYDAY=-1SU
END:STANDARD
END:VTIMEZONE
BEGIN:VEVENT
SUMMARY:Saturday Night Live 45x14 - John Mulaney / David Byrne
DTSTAMP:20200216T115658Z
SEQUENCE:0
UID:116041-2-841ebed20eb198c4569419e99b7bf40a@themidnightzone.com
ORGANIZER;CN="Midnight":midnight@themidnightzone.com
DESCRIPTION:John Mulaney will host \"Saturday Night Live\" for the third
	 timeon Feb. 29. \"John Mulaney &amp\; the Sack Lunch Bunch\" iscurrently 
	streaming on Netflix.David Byrne will return tostudio 8H to perform as \"S
	NL\" musical guest. He currentlyappears on Broadway in the critically accl
	aimed production\"David Byrne's American Utopia.\"
DTSTART:20200301T042900Z
DTEND:20200301T055900Z
END:VEVENT
END:VCALENDAR
