BEGIN:VCALENDAR
VERSION:2.0
PRODID:-//InvisionCommunity Events 4.7.23//EN
METHOD:PUBLISH
CALSCALE:GREGORIAN
REFRESH-INTERVAL:PT15M
X-PUBLISHED-TTL:PT15M
X-WR-CALNAME:At My TV
NAME:At My TV
BEGIN:VTIMEZONE
TZID:Europe/London
TZURL:http://tzurl.org/zoneinfo/Europe/London
X-LIC-LOCATION:Europe/London
BEGIN:DAYLIGHT
TZOFFSETFROM:+0000
TZOFFSETTO:+0100
TZNAME:BST
DTSTART:20200329T020000Z
RRULE:FREQ=YEARLY;BYMONTH=3;BYDAY=-1SU
END:DAYLIGHT
BEGIN:STANDARD
TZOFFSETFROM:+0100
TZOFFSETTO:+0000
TZNAME:GMT
DTSTART:20201025T020000Z
RRULE:FREQ=YEARLY;BYMONTH=10;BYDAY=-1SU
END:STANDARD
END:VTIMEZONE
BEGIN:VEVENT
SUMMARY:Restaurant: Impossible 16x11 - Lost in the Bayou
DTSTAMP:20200221T115652Z
SEQUENCE:0
UID:116402-2-841ebed20eb198c4569419e99b7bf40a@themidnightzone.com
ORGANIZER;CN="Midnight":midnight@themidnightzone.com
DESCRIPTION:At Lil G's Kajun Restaurant in Louisiana\, Chef Robert Irvin
	emeets Therese\, who bought the restaurant 12 years ago\, havingno experie
	nce. With her daughter's help\, Therese has managedto stay afloat\, but af
	ter consecutive years of losing morethan 0\,000\, they've run out of optio
	ns. If Robert can'treverse the tide\, Lil G's name is mud.
DTSTART:20200306T020000Z
DTEND:20200306T030000Z
END:VEVENT
END:VCALENDAR
