BEGIN:VCALENDAR
VERSION:2.0
PRODID:-//InvisionCommunity Events 4.7.23//EN
METHOD:PUBLISH
CALSCALE:GREGORIAN
REFRESH-INTERVAL:PT15M
X-PUBLISHED-TTL:PT15M
X-WR-CALNAME:Pogdesign
NAME:Pogdesign
BEGIN:VTIMEZONE
TZID:Europe/London
TZURL:http://tzurl.org/zoneinfo/Europe/London
X-LIC-LOCATION:Europe/London
BEGIN:DAYLIGHT
TZOFFSETFROM:+0000
TZOFFSETTO:+0100
TZNAME:BST
DTSTART:20200329T020000Z
RRULE:FREQ=YEARLY;BYMONTH=3;BYDAY=-1SU
END:DAYLIGHT
BEGIN:STANDARD
TZOFFSETFROM:+0100
TZOFFSETTO:+0000
TZNAME:GMT
DTSTART:20201025T020000Z
RRULE:FREQ=YEARLY;BYMONTH=10;BYDAY=-1SU
END:STANDARD
END:VTIMEZONE
BEGIN:VEVENT
SUMMARY:The Good Fight 4x2 - The Gang Tries to Serve a Subpoena
DTSTAMP:20200409T160001Z
SEQUENCE:0
UID:117835-3-841ebed20eb198c4569419e99b7bf40a@themidnightzone.com
ORGANIZER;CN="Midnight":midnight@themidnightzone.com
DESCRIPTION:Reddick\, Boseman &amp\;amp: Lockhart attempt to adjust to t
	heirnew landscape as a small subsidiary of STR Laurie\, a hugemulti-nation
	al law firm. Diane encounters a familiar face incourt\, Louis Canning\, du
	ring an eminent domain case against alarge real estate developer\, Rare Or
	chard. Lucca is given anexciting\, high-profile divorce case\, however it 
	comes with anunexpected partner\, David Lee.
DTSTART:20200416T200000Z
DTEND:20200416T210000Z
END:VEVENT
END:VCALENDAR
