BEGIN:VCALENDAR
VERSION:2.0
PRODID:-//InvisionCommunity Events 4.7.23//EN
METHOD:PUBLISH
CALSCALE:GREGORIAN
REFRESH-INTERVAL:PT15M
X-PUBLISHED-TTL:PT15M
X-WR-CALNAME:Pogdesign
NAME:Pogdesign
BEGIN:VTIMEZONE
TZID:Europe/London
TZURL:http://tzurl.org/zoneinfo/Europe/London
X-LIC-LOCATION:Europe/London
BEGIN:DAYLIGHT
TZOFFSETFROM:+0000
TZOFFSETTO:+0100
TZNAME:BST
DTSTART:20200329T020000Z
RRULE:FREQ=YEARLY;BYMONTH=3;BYDAY=-1SU
END:DAYLIGHT
BEGIN:STANDARD
TZOFFSETFROM:+0100
TZOFFSETTO:+0000
TZNAME:GMT
DTSTART:20201025T020000Z
RRULE:FREQ=YEARLY;BYMONTH=10;BYDAY=-1SU
END:STANDARD
END:VTIMEZONE
BEGIN:VEVENT
SUMMARY:Good Witch 6x9 - The Loft
DTSTAMP:20200615T080003Z
SEQUENCE:0
UID:119717-3-841ebed20eb198c4569419e99b7bf40a@themidnightzone.com
ORGANIZER;CN="Midnight":midnight@themidnightzone.com
DESCRIPTION:Cassie and Sam's plans to steal away to Chicago for the week
	endgo awry when he has to stay behind for work. Instead\, Cassietakes her 
	book club friends so they can all recharge. Joyquestions her decision to p
	artner with Donna again as they workon Martha's renovation. Abigail bristl
	es at Donna's style buttheir may be another reason she hasn't taken to her
	. Abigailand Joy join Cassie at the memorial luncheon for her mentorOlympi
	a and make a surprising discovery that could bring themcloser to breaking 
	the Merriwick-Davenport curse.
DTSTART:20200628T200000Z
DTEND:20200628T210000Z
END:VEVENT
END:VCALENDAR
