BEGIN:VCALENDAR
VERSION:2.0
PRODID:-//InvisionCommunity Events 4.7.23//EN
METHOD:PUBLISH
CALSCALE:GREGORIAN
REFRESH-INTERVAL:PT15M
X-PUBLISHED-TTL:PT15M
X-WR-CALNAME:Pogdesign
NAME:Pogdesign
BEGIN:VTIMEZONE
TZID:Europe/London
TZURL:http://tzurl.org/zoneinfo/Europe/London
X-LIC-LOCATION:Europe/London
BEGIN:DAYLIGHT
TZOFFSETFROM:+0000
TZOFFSETTO:+0100
TZNAME:BST
DTSTART:20200329T020000Z
RRULE:FREQ=YEARLY;BYMONTH=3;BYDAY=-1SU
END:DAYLIGHT
BEGIN:STANDARD
TZOFFSETFROM:+0100
TZOFFSETTO:+0000
TZNAME:GMT
DTSTART:20201025T020000Z
RRULE:FREQ=YEARLY;BYMONTH=10;BYDAY=-1SU
END:STANDARD
END:VTIMEZONE
BEGIN:VEVENT
SUMMARY:Good Witch 6x10 - The Bird
DTSTAMP:20200622T090002Z
SEQUENCE:0
UID:119785-3-841ebed20eb198c4569419e99b7bf40a@themidnightzone.com
ORGANIZER;CN="Midnight":midnight@themidnightzone.com
DESCRIPTION:Cassie is sad that her temporary teaching assignment is wind
	ingdown. Sam is forced to take unused vacation time\, so he andCassie try 
	to find a hobby they both enjoy. Joy has a decisionto make when Donna find
	s a new job for them in Vermont.Martha's worried about her housewarming pa
	rty when finaldetails of the renovation go awry. As Adam's mission nears\,
	 heand Stephanie try to figure out what this means for theirrelationship. 
	Abigail and Donovan reunite to make one laststand against the curse and fi
	ght for their future.
DTSTART:20200705T200000Z
DTEND:20200705T210000Z
END:VEVENT
END:VCALENDAR
