BEGIN:VCALENDAR
VERSION:2.0
PRODID:-//InvisionCommunity Events 4.7.23//EN
METHOD:PUBLISH
CALSCALE:GREGORIAN
REFRESH-INTERVAL:PT15M
X-PUBLISHED-TTL:PT15M
X-WR-CALNAME:Pogdesign
NAME:Pogdesign
BEGIN:VTIMEZONE
TZID:Europe/London
TZURL:http://tzurl.org/zoneinfo/Europe/London
X-LIC-LOCATION:Europe/London
BEGIN:DAYLIGHT
TZOFFSETFROM:+0000
TZOFFSETTO:+0100
TZNAME:BST
DTSTART:20200329T020000Z
RRULE:FREQ=YEARLY;BYMONTH=3;BYDAY=-1SU
END:DAYLIGHT
BEGIN:STANDARD
TZOFFSETFROM:+0100
TZOFFSETTO:+0000
TZNAME:GMT
DTSTART:20201025T020000Z
RRULE:FREQ=YEARLY;BYMONTH=10;BYDAY=-1SU
END:STANDARD
END:VTIMEZONE
BEGIN:VEVENT
SUMMARY:The Boys 2x3 - Over the Hill with the Swords of a Thousand M
	en
DTSTAMP:20200822T110003Z
SEQUENCE:0
UID:120466-3-841ebed20eb198c4569419e99b7bf40a@themidnightzone.com
ORGANIZER;CN="Midnight":midnight@themidnightzone.com
DESCRIPTION:Attention: If you or a loved one were exposed to Compound V\
	,you may be entitled to financial compensation. Vought has giventhe drug t
	o multiple victims\, without their knowledge orconsent. If you believe tha
	t you or a loved one wereadministered Compound V\, call the law firm of Br
	emmer &amp\;Bremmer at 1-888-177-2774 for a free legal consultation. Knowy
	our rights!
DTSTART:20200904T235900Z
DTEND:20200905T005900Z
END:VEVENT
END:VCALENDAR
