BEGIN:VCALENDAR
VERSION:2.0
PRODID:-//InvisionCommunity Events 4.7.23//EN
METHOD:PUBLISH
CALSCALE:GREGORIAN
REFRESH-INTERVAL:PT15M
X-PUBLISHED-TTL:PT15M
X-WR-CALNAME:Pogdesign
NAME:Pogdesign
BEGIN:VTIMEZONE
TZID:Europe/London
TZURL:http://tzurl.org/zoneinfo/Europe/London
X-LIC-LOCATION:Europe/London
BEGIN:DAYLIGHT
TZOFFSETFROM:+0000
TZOFFSETTO:+0100
TZNAME:BST
DTSTART:20200329T020000Z
RRULE:FREQ=YEARLY;BYMONTH=3;BYDAY=-1SU
END:DAYLIGHT
BEGIN:STANDARD
TZOFFSETFROM:+0100
TZOFFSETTO:+0000
TZNAME:GMT
DTSTART:20201025T020000Z
RRULE:FREQ=YEARLY;BYMONTH=10;BYDAY=-1SU
END:STANDARD
END:VTIMEZONE
BEGIN:VEVENT
SUMMARY:The Great British Bake Off 11x1 - Cake Week
DTSTAMP:20200915T110003Z
SEQUENCE:0
UID:120773-3-841ebed20eb198c4569419e99b7bf40a@themidnightzone.com
ORGANIZER;CN="Midnight":midnight@themidnightzone.com
DESCRIPTION:Matt Lucas takes over from Sandi Toksvig as host for the 202
	0series\, alongside returning presenter Noel Fielding andregular judges Pa
	ul Hollywood and Prue Leith. The 12contestants for this series have been r
	equired to form a socialbubble due to Covid-19 lockdown restrictions. The 
	contestbegins with Cake Week\, beginning with a signature challenge toprod
	uce a classic Battenberg. For the technical round\, Paulsets the contestan
	ts the task of making a fruit sponge\, andthe final Showstopper Challenge 
	gives the bakers a chance toexpress their creativity.
DTSTART:20200922T160000Z
DTEND:20200922T170000Z
END:VEVENT
END:VCALENDAR
