BEGIN:VCALENDAR
VERSION:2.0
PRODID:-//InvisionCommunity Events 4.7.23//EN
METHOD:PUBLISH
CALSCALE:GREGORIAN
REFRESH-INTERVAL:PT15M
X-PUBLISHED-TTL:PT15M
X-WR-CALNAME:Pogdesign
NAME:Pogdesign
BEGIN:VTIMEZONE
TZID:Europe/London
TZURL:http://tzurl.org/zoneinfo/Europe/London
X-LIC-LOCATION:Europe/London
BEGIN:DAYLIGHT
TZOFFSETFROM:+0000
TZOFFSETTO:+0100
TZNAME:BST
DTSTART:20200329T020000Z
RRULE:FREQ=YEARLY;BYMONTH=3;BYDAY=-1SU
END:DAYLIGHT
BEGIN:STANDARD
TZOFFSETFROM:+0100
TZOFFSETTO:+0000
TZNAME:GMT
DTSTART:20201025T020000Z
RRULE:FREQ=YEARLY;BYMONTH=10;BYDAY=-1SU
END:STANDARD
END:VTIMEZONE
BEGIN:VEVENT
SUMMARY:El Cid 1x3 - Baraka
DTSTAMP:20201218T023704Z
SEQUENCE:0
UID:121211-3-841ebed20eb198c4569419e99b7bf40a@themidnightzone.com
ORGANIZER;CN="Midnight":midnight@themidnightzone.com
DESCRIPTION:Fernando sends his son\, Sancho\, with a small army to Zarag
	ozato confront his brother\, Ramiro\, the King of Aragon. Beforeleaving wi
	th Sancho\, Ruy reveals to the King that Flaín triedto kill him. Fernando
	 starts to investigate who betrayed him.Meanwhile\, Ruy leaves León ignor
	ant to the fact Flaín sent ahitman within the troop to kill him.
DTSTART:20201220T235900Z
DTEND:20201221T005900Z
END:VEVENT
END:VCALENDAR
