BEGIN:VCALENDAR
VERSION:2.0
PRODID:-//InvisionCommunity Events 4.7.23//EN
METHOD:PUBLISH
CALSCALE:GREGORIAN
REFRESH-INTERVAL:PT15M
X-PUBLISHED-TTL:PT15M
X-WR-CALNAME:Pogdesign
NAME:Pogdesign
BEGIN:VTIMEZONE
TZID:Europe/London
TZURL:http://tzurl.org/zoneinfo/Europe/London
X-LIC-LOCATION:Europe/London
BEGIN:DAYLIGHT
TZOFFSETFROM:+0000
TZOFFSETTO:+0100
TZNAME:BST
DTSTART:20200329T020000Z
RRULE:FREQ=YEARLY;BYMONTH=3;BYDAY=-1SU
END:DAYLIGHT
BEGIN:STANDARD
TZOFFSETFROM:+0100
TZOFFSETTO:+0000
TZNAME:GMT
DTSTART:20201025T020000Z
RRULE:FREQ=YEARLY;BYMONTH=10;BYDAY=-1SU
END:STANDARD
END:VTIMEZONE
BEGIN:VEVENT
SUMMARY:Shameless (US) 11x3 - Frances Francis Franny Frank
DTSTAMP:20201218T023704Z
SEQUENCE:0
UID:121214-3-841ebed20eb198c4569419e99b7bf40a@themidnightzone.com
ORGANIZER;CN="Midnight":midnight@themidnightzone.com
DESCRIPTION:In a rush to get out of the house\, Debbie loses track ofFra
	nny and has to balance her search for Franny with herhandy-woman jobs. Mea
	nwhile\, Frank and Franny have a day ofweed runs and adventure. Ian and Mi
	ckey question who is the\"man\" in their relationship. A delighted Carl ge
	tsa new Training Officer who loves to kick ass. When Brad andCami learn ab
	out their newborn baby's health complications\,Lip and Tami step in to hel
	p. Kev's newfound money and lack ofmodesty prove to be trouble.
DTSTART:20201220T210000Z
DTEND:20201220T220000Z
END:VEVENT
END:VCALENDAR
