BEGIN:VCALENDAR
VERSION:2.0
PRODID:-//InvisionCommunity Events 4.7.23//EN
METHOD:PUBLISH
CALSCALE:GREGORIAN
REFRESH-INTERVAL:PT15M
X-PUBLISHED-TTL:PT15M
X-WR-CALNAME:Pogdesign
NAME:Pogdesign
BEGIN:VTIMEZONE
TZID:Europe/London
TZURL:http://tzurl.org/zoneinfo/Europe/London
X-LIC-LOCATION:Europe/London
BEGIN:DAYLIGHT
TZOFFSETFROM:+0000
TZOFFSETTO:+0100
TZNAME:BST
DTSTART:20210328T020000Z
RRULE:FREQ=YEARLY;BYMONTH=3;BYDAY=-1SU
END:DAYLIGHT
BEGIN:STANDARD
TZOFFSETFROM:+0100
TZOFFSETTO:+0000
TZNAME:GMT
DTSTART:20211031T020000Z
RRULE:FREQ=YEARLY;BYMONTH=10;BYDAY=-1SU
END:STANDARD
END:VTIMEZONE
BEGIN:VEVENT
SUMMARY:All Rise 2x6 - Bounceback (2)
DTSTAMP:20201222T104803Z
SEQUENCE:0
UID:121525-3-841ebed20eb198c4569419e99b7bf40a@themidnightzone.com
ORGANIZER;CN="Midnight":midnight@themidnightzone.com
DESCRIPTION:It's a new year and Lola's baby is due any day. She learns t
	hejury was going to deliver a \"not guilty\" verdict ina case in which she
	 pressured defendant Leon Parsons to take aplea deal\, forcing her to deci
	de whether to let the plea standand protect her reputation\, or reveal wha
	t she knows to Leon.Also\, Mark's in the midst of an intense negotiation w
	ith DALouis Bravo regarding how and when to arrest and charge DeputySherif
	f Rashel for attempted murder\, when Mark is the victimof a brazen knife a
	ttack.
DTSTART:20210104T210000Z
DTEND:20210104T213000Z
END:VEVENT
END:VCALENDAR
