BEGIN:VCALENDAR
VERSION:2.0
PRODID:-//InvisionCommunity Events 4.7.23//EN
METHOD:PUBLISH
CALSCALE:GREGORIAN
REFRESH-INTERVAL:PT15M
X-PUBLISHED-TTL:PT15M
X-WR-CALNAME:At My TV
NAME:At My TV
BEGIN:VTIMEZONE
TZID:Europe/London
TZURL:http://tzurl.org/zoneinfo/Europe/London
X-LIC-LOCATION:Europe/London
BEGIN:DAYLIGHT
TZOFFSETFROM:+0000
TZOFFSETTO:+0100
TZNAME:BST
DTSTART:20210328T020000Z
RRULE:FREQ=YEARLY;BYMONTH=3;BYDAY=-1SU
END:DAYLIGHT
BEGIN:STANDARD
TZOFFSETFROM:+0100
TZOFFSETTO:+0000
TZNAME:GMT
DTSTART:20211031T020000Z
RRULE:FREQ=YEARLY;BYMONTH=10;BYDAY=-1SU
END:STANDARD
END:VTIMEZONE
BEGIN:VEVENT
SUMMARY:Finding Your Roots with Henry Louis Gates Jr. 6x16 - Coming 
	toAmerica
DTSTAMP:20201230T064731Z
SEQUENCE:0
UID:121735-2-841ebed20eb198c4569419e99b7bf40a@themidnightzone.com
ORGANIZER;CN="Midnight":midnight@themidnightzone.com
DESCRIPTION:Henry Louis Gates\, Jr. helps Congresswoman Nancy Pelosi\, n
	ewsanchor Norah O'Donnell and fashion designer Zac Posen exploretheir immi
	grant roots\, retracing the journeys of theirancestors who arrived in the 
	United States with little morethan a dream--and revealing why that dream i
	s still soinspiring today.
DTSTART:20210113T010000Z
DTEND:20210113T020000Z
END:VEVENT
END:VCALENDAR
